BEGIN:VCALENDAR
VERSION:2.0
PRODID:-//Just One Spokane | Youth Service | Spokane - ECPv6.15.20//NONSGML v1.0//EN
CALSCALE:GREGORIAN
METHOD:PUBLISH
X-WR-CALNAME:Just One Spokane | Youth Service | Spokane
X-ORIGINAL-URL:https://justonespokane.org
X-WR-CALDESC:Events for Just One Spokane | Youth Service | Spokane
REFRESH-INTERVAL;VALUE=DURATION:PT1H
X-Robots-Tag:noindex
X-PUBLISHED-TTL:PT1H
BEGIN:VTIMEZONE
TZID:America/Los_Angeles
BEGIN:DAYLIGHT
TZOFFSETFROM:-0800
TZOFFSETTO:-0700
TZNAME:PDT
DTSTART:20200308T100000
END:DAYLIGHT
BEGIN:STANDARD
TZOFFSETFROM:-0700
TZOFFSETTO:-0800
TZNAME:PST
DTSTART:20201101T090000
END:STANDARD
BEGIN:DAYLIGHT
TZOFFSETFROM:-0800
TZOFFSETTO:-0700
TZNAME:PDT
DTSTART:20210314T100000
END:DAYLIGHT
BEGIN:STANDARD
TZOFFSETFROM:-0700
TZOFFSETTO:-0800
TZNAME:PST
DTSTART:20211107T090000
END:STANDARD
BEGIN:DAYLIGHT
TZOFFSETFROM:-0800
TZOFFSETTO:-0700
TZNAME:PDT
DTSTART:20220313T100000
END:DAYLIGHT
BEGIN:STANDARD
TZOFFSETFROM:-0700
TZOFFSETTO:-0800
TZNAME:PST
DTSTART:20221106T090000
END:STANDARD
END:VTIMEZONE
BEGIN:VEVENT
DTSTART;TZID=America/Los_Angeles:20210604T150000
DTEND;TZID=America/Los_Angeles:20210604T200000
DTSTAMP:20260424T040424
CREATED:20210329T214902Z
LAST-MODIFIED:20210504T225353Z
UID:891-1622818800-1622836800@justonespokane.org
SUMMARY:Music
DESCRIPTION:Does your 10 – 21 year old think big? Well they are invited to show us their talent! \nJust One intent for music classes is to allow youth to work alongside professionals and volunteers free of charge. Our music classes are for youth to have an opportunity to express themselves\, work with equipment\, maintain the equipment\, learn communication skills\, troubleshoot issues\, and most of all be offered the opportunity to be creative through music! \nClass features\n\nRelationship building\nEntrepreneurship\nThe use of technology to enhance personal/professional growth\nThe business of music/entertainment\nFinancial literacy\n\nVision\nTo mentor and educate today’s youth and young adults through providing a safe place. \nHow it works\n\n6 youth supervised by 2 instructors at a time\n2 hour classes from 3pm to 5pm or 6pm to 8pm.\nOnce a week or 2 times a week\nMonday’s and Fridays\nSpecial needs classes on Wednesdays\nCD or MP3 players to practice at home\nSnacks provided\nTransportation opportunities\nPerformance opportunities in the Spokane area
URL:https://justonespokane.org/event/music-9/
LOCATION:Just One\, 4421 N Nevada st\, Spokane\, WA\, 99207\, United States
CATEGORIES:Music
ATTACH;FMTTYPE=image/jpeg:https://justonespokane.org/wp-content/uploads/2021/03/MUSIC-1-scaled.jpg
END:VEVENT
BEGIN:VEVENT
DTSTART;TZID=America/Los_Angeles:20210603T150000
DTEND;TZID=America/Los_Angeles:20210603T200000
DTSTAMP:20260424T040424
CREATED:20210329T214750Z
LAST-MODIFIED:20210531T192425Z
UID:887-1622732400-1622750400@justonespokane.org
SUMMARY:Art
DESCRIPTION:Free Hands on Projects to new upcoming artists 10 – 21 years old! \nJust One wants to provide upcoming young artists free studio space\, giving them the opportunity to develop their individual vision/expression. \nFun games that intrigue youth to collaborate with art in social group activities. Are classes allow young artists opportunities to share/display the work they have created during the time they spent working with professionals and volunteers at Just One. \nOur art workshops are intended to expand and develop the inner genius and creativity within youth of the new millennium. Allowing youth to work together\, and all youth in our community places to belong\, and contribute. \nWe hope to allow youth to build their skills with networking and the opportunity to learn from each other. \nHow it works\n6 youth supervised by 2 instructors at a time\n2 hour classes from 3pm to 5pm or 6pm to 8pm.\nOnce a week or 2 times a week\nTuesdays and Thursdays\nSpecial needs accommodations\nAll supplies and materials free\nSnacks provided\nTransportation opportunities\nShowcases & gallery opportunities in Spokane area
URL:https://justonespokane.org/event/art-9/
LOCATION:Just One\, 4421 N Nevada st\, Spokane\, WA\, 99207\, United States
CATEGORIES:Art
ATTACH;FMTTYPE=image/jpeg:https://justonespokane.org/wp-content/uploads/2021/03/just-one-art.jpg
END:VEVENT
BEGIN:VEVENT
DTSTART;TZID=America/Los_Angeles:20210602T150000
DTEND;TZID=America/Los_Angeles:20210602T200000
DTSTAMP:20260424T040424
CREATED:20210329T214131Z
LAST-MODIFIED:20210506T203313Z
UID:863-1622646000-1622664000@justonespokane.org
SUMMARY:Music (Accommodations For Special Needs)
DESCRIPTION:Does your 10 – 21 year old think big? \nWell they are invited to show us their talent! \nJust One intent for music classes is to allow youth to work alongside professionals and volunteers free of charge. Our music classes are for youth to have an opportunity to express themselves\, work with equipment\, maintain the equipment\, learn communication skills\, troubleshoot issues\, and most of all be offered the opportunity to be creative through music! \nClass features\n\nRelationship building\nEntrepreneurship\nThe use of technology to enhance personal/professional growth\nThe business of music/entertainment\nFinancial literacy\n\nVision\nTo mentor and educate today’s youth and young adults through providing a safe place. \nHow it works\n\n6 youth supervised by 2 instructors at a time\n2 hour classes from 3pm to 5pm or 6pm to 8pm.\nOnce a week or 2 times a week\nMonday’s and Fridays\nSpecial needs classes on Wednesdays\nCD or MP3 players to practice at home\nSnacks provided\nTransportation opportunities\nPerformance opportunities in the Spokane area
URL:https://justonespokane.org/event/music-8/
LOCATION:Just One\, 4421 N Nevada st\, Spokane\, WA\, 99207\, United States
CATEGORIES:Music
ATTACH;FMTTYPE=image/jpeg:https://justonespokane.org/wp-content/uploads/2021/03/image_6487327-34.jpg
END:VEVENT
BEGIN:VEVENT
DTSTART;TZID=America/Los_Angeles:20210601T150000
DTEND;TZID=America/Los_Angeles:20210601T200000
DTSTAMP:20260424T040424
CREATED:20210329T214703Z
LAST-MODIFIED:20210512T010259Z
UID:883-1622559600-1622577600@justonespokane.org
SUMMARY:Art
DESCRIPTION:Free Hands on Projects to new upcoming artists 10 – 21 years old! \nJust One wants to provide upcoming young artists free studio space\, giving them the opportunity to develop their individual vision/expression. \nFun games that intrigue youth to collaborate with art in social group activities. Are classes allow young artists opportunities to share/display the work they have created during the time they spent working with professionals and volunteers at Just One. \nOur art workshops are intended to expand and develop the inner genius and creativity within youth of the new millennium. Allowing youth to work together\, and all youth in our community places to belong\, and contribute. \nWe hope to allow youth to build their skills with networking and the opportunity to learn from each other. \nHow it works\n6 youth supervised by 2 instructors at a time\n2 hour classes from 3pm to 5pm or 6pm to 8pm.\nOnce a week or 2 times a week\nTuesdays and Thursdays\nSpecial needs accommodations\nAll supplies and materials free\nSnacks provided\nTransportation opportunities\nShowcases & gallery opportunities in Spokane area
URL:https://justonespokane.org/event/art-8/
LOCATION:Just One\, 4421 N Nevada st\, Spokane\, WA\, 99207\, United States
CATEGORIES:Art
ATTACH;FMTTYPE=image/jpeg:https://justonespokane.org/wp-content/uploads/2020/12/arts-crafts-scaled.jpg
END:VEVENT
BEGIN:VEVENT
DTSTART;TZID=America/Los_Angeles:20210516T110000
DTEND;TZID=America/Los_Angeles:20210516T150000
DTSTAMP:20260424T040424
CREATED:20210506T220003Z
LAST-MODIFIED:20210915T001623Z
UID:1098-1621162800-1621177200@justonespokane.org
SUMMARY:Free Clothing Bank
DESCRIPTION:Come check out what has been donated to us and take it home! \nMany supporter of Just One have donated gentle used clothing to brand new clothes\, young youth sizes\, to adult sizes. \nLimited supply of shoes\, purses and more! \nAll FREE to our community. \nDonations are welcomed either in person or on our website by clicking on donate on home page as we appreciate any and all support! \nEvent: May 16th \nTime: 11am to 3pm \nLocation: 4421 N Nevada st 99207 \n\n	Notice: JavaScript is required for this content.\n\n\n    \n\n\n        \n        \n                \n\n        \n\n        \n 
URL:https://justonespokane.org/event/free-clothing-bank/
LOCATION:Just One\, 4421 N Nevada st\, Spokane\, WA\, 99207\, United States
ATTACH;FMTTYPE=image/jpeg:https://justonespokane.org/wp-content/uploads/2020/11/hero_images_other5-web.jpg
END:VEVENT
END:VCALENDAR