BEGIN:VCALENDAR
VERSION:2.0
PRODID:-//Just One Spokane | Youth Service | Spokane - ECPv6.15.20//NONSGML v1.0//EN
CALSCALE:GREGORIAN
METHOD:PUBLISH
X-ORIGINAL-URL:https://justonespokane.org
X-WR-CALDESC:Events for Just One Spokane | Youth Service | Spokane
REFRESH-INTERVAL;VALUE=DURATION:PT1H
X-Robots-Tag:noindex
X-PUBLISHED-TTL:PT1H
BEGIN:VTIMEZONE
TZID:America/Los_Angeles
BEGIN:DAYLIGHT
TZOFFSETFROM:-0800
TZOFFSETTO:-0700
TZNAME:PDT
DTSTART:20250309T100000
END:DAYLIGHT
BEGIN:STANDARD
TZOFFSETFROM:-0700
TZOFFSETTO:-0800
TZNAME:PST
DTSTART:20251102T090000
END:STANDARD
BEGIN:DAYLIGHT
TZOFFSETFROM:-0800
TZOFFSETTO:-0700
TZNAME:PDT
DTSTART:20260308T100000
END:DAYLIGHT
BEGIN:STANDARD
TZOFFSETFROM:-0700
TZOFFSETTO:-0800
TZNAME:PST
DTSTART:20261101T090000
END:STANDARD
BEGIN:DAYLIGHT
TZOFFSETFROM:-0800
TZOFFSETTO:-0700
TZNAME:PDT
DTSTART:20270314T100000
END:DAYLIGHT
BEGIN:STANDARD
TZOFFSETFROM:-0700
TZOFFSETTO:-0800
TZNAME:PST
DTSTART:20271107T090000
END:STANDARD
END:VTIMEZONE
BEGIN:VEVENT
DTSTART;TZID=America/Los_Angeles:20260311T150000
DTEND;TZID=America/Los_Angeles:20260527T180000
DTSTAMP:20260419T235357
CREATED:20260305T210144Z
LAST-MODIFIED:20260310T010315Z
UID:15627-1773241200-1779904800@justonespokane.org
SUMMARY:Spring Drum Circles
DESCRIPTION:How to Beat Wednesdays!\nWhat’s the best way for your youths get over Hump Days? \nBy tuning in to their bodies and souls and joining the Just One drum line…we mean circle. \nJust One group drum circles are led by Indigenous woman\, Drea Rose\, every Wednesday afternoon (depending on the weather) during Spring After School Program. \n \nWhat is a drum circle?\nA drum circle is an informal group of people who gather together to make music with percussion instruments. The main objective is to share rhythm and get in tune with each other and themselves. The purpose can range from simple enjoyment and social connection to therapeutic experience. \n \nWhat to expect\nDrum circles can be exciting spaces that help build community\, spur creativity and give the participating drummers experiences they may not soon forget. \nWhat to bring\nArrive with an Open Mind. \n \nHow to join\nCreate a parent profile and make sure you register your youth for our programs here: https://justonespokane.org/login/ \nhttps://justonespokane.org/wp-content/uploads/2026/03/drumcircle5.mp4\n 
URL:https://justonespokane.org/event/spring-drum-circles/
LOCATION:WA
CATEGORIES:After School,In Person,Music
ATTACH;FMTTYPE=image/jpeg:https://justonespokane.org/wp-content/uploads/2021/03/image_6487327-33.jpg
END:VEVENT
BEGIN:VEVENT
DTSTART;TZID=America/Los_Angeles:20260407T153000
DTEND;TZID=America/Los_Angeles:20260407T170000
DTSTAMP:20260419T235357
CREATED:20260406T232702Z
LAST-MODIFIED:20260407T202703Z
UID:15784-1775575800-1775581200@justonespokane.org
SUMMARY:4/7/26 - Thrift Store Field Trip
DESCRIPTION:From 3:30pm to 5:00pm we will be taking a field trip to the thrift store\, Cultivated Chameleon\, located at 709 N Monroe via the city bus (Line 28 Downtown\, transfer line 21 West Central Community Center). All youth 18 and under ride for free! \nLearn more about Cultivated Chameleon\ninstagram.com/cultivatedchameleon/ \nFor more information on youth bus rides\nspokanetransit.com/youth/ \nFull Spring Break Schedule
URL:https://justonespokane.org/event/040726thrift/
LOCATION:Cultivated Chameleon\, 709 N. Monroe St.\, Spokane\, WA\, 99201\, United States
CATEGORIES:After School,Event,Spring Break
ATTACH;FMTTYPE=image/png:https://justonespokane.org/wp-content/uploads/2026/04/cultivated-chameleon.png
END:VEVENT
BEGIN:VEVENT
DTSTART;TZID=America/Los_Angeles:20260408T160000
DTEND;TZID=America/Los_Angeles:20260408T180000
DTSTAMP:20260419T235357
CREATED:20260406T234748Z
LAST-MODIFIED:20260407T003355Z
UID:15794-1775664000-1775671200@justonespokane.org
SUMMARY:4/8/26 - Drum Circle & Thrift
DESCRIPTION:On Wednesday\, 4/8\, we will have our regularly scheduled drum circle with Drea Rose from 4:00pm to 5:00pm. \nThen\, from 5:00pm we will go over to Thrifty Mamas located at 4705 N. Crestline St. and will be back at Just One at 6:00pm. \nLearn more about our activities through the links below:\ninstagram.com/drearose509/ \nfacebook.com/people/Thrifty-mamas/100083206697177/ \nFull Spring Break Schedule\n \n  \n  \n 
URL:https://justonespokane.org/event/040826drumthrift/
LOCATION:WA
CATEGORIES:After School,Music
ATTACH;FMTTYPE=image/jpeg:https://justonespokane.org/wp-content/uploads/2025/12/soundbath4.jpeg
END:VEVENT
BEGIN:VEVENT
DTSTART;TZID=America/Los_Angeles:20260409T153000
DTEND;TZID=America/Los_Angeles:20260409T180000
DTSTAMP:20260419T235358
CREATED:20260407T001152Z
LAST-MODIFIED:20260407T003203Z
UID:15805-1775748600-1775757600@justonespokane.org
SUMMARY:4/9/26 - Field Trip to Global Neighborhood and Indigenous Eats
DESCRIPTION:On Thursday\, 4/9\, we are taking the city bus (line 28 Downtown) to Global Neighborhood Thrift from Just One promptly at 3:30pm. Global Neighborhood is located at 919 E. Trent Ave. \nAround 5:00pm\, we will walk to Indigenous Eats at 829 E. Boone Ave. and return to Just One via bus (Line 28 Whitworth University) by 6:00pm. \nFind out more about our field trip locations through the links below:\nglobal-neighborhood.org/  \niespokane.com/ \nFull Spring Break Schedule
URL:https://justonespokane.org/event/040926-gn-ie/
LOCATION:Global Neighborhood Thrift\, 919 E. Trent Ave.\, Spokane\, WA\, 99202\, United States
CATEGORIES:After School
ATTACH;FMTTYPE=image/png:https://justonespokane.org/wp-content/uploads/2026/04/global.png
END:VEVENT
BEGIN:VEVENT
DTSTART;TZID=America/Los_Angeles:20260410T150000
DTEND;TZID=America/Los_Angeles:20260410T180000
DTSTAMP:20260419T235358
CREATED:20260407T002719Z
LAST-MODIFIED:20260407T003311Z
UID:15815-1775833200-1775844000@justonespokane.org
SUMMARY:4/10/26 - Get Air Field Trip
DESCRIPTION:Friday’s field trip on 4/10 is to Get Air in the NorthTown Mall. We will walk from Just One at 3:30pm. \nAt 5:30pm we’ll go to Panda Express in the mall and then return by 6:00pm. \nLearn more about Get Air: getairsports.com/spokane/
URL:https://justonespokane.org/event/041026-getair/
LOCATION:WA
CATEGORIES:After School
ATTACH;FMTTYPE=image/jpeg:https://justonespokane.org/wp-content/uploads/2022/04/jumping-place-spokane-2521.jpg
END:VEVENT
END:VCALENDAR