BEGIN:VCALENDAR
VERSION:2.0
PRODID:-//Just One Spokane | Youth Service | Spokane - ECPv6.15.20//NONSGML v1.0//EN
CALSCALE:GREGORIAN
METHOD:PUBLISH
X-WR-CALNAME:Just One Spokane | Youth Service | Spokane
X-ORIGINAL-URL:https://justonespokane.org
X-WR-CALDESC:Events for Just One Spokane | Youth Service | Spokane
REFRESH-INTERVAL;VALUE=DURATION:PT1H
X-Robots-Tag:noindex
X-PUBLISHED-TTL:PT1H
BEGIN:VTIMEZONE
TZID:America/Los_Angeles
BEGIN:DAYLIGHT
TZOFFSETFROM:-0800
TZOFFSETTO:-0700
TZNAME:PDT
DTSTART:20240310T100000
END:DAYLIGHT
BEGIN:STANDARD
TZOFFSETFROM:-0700
TZOFFSETTO:-0800
TZNAME:PST
DTSTART:20241103T090000
END:STANDARD
BEGIN:DAYLIGHT
TZOFFSETFROM:-0800
TZOFFSETTO:-0700
TZNAME:PDT
DTSTART:20250309T100000
END:DAYLIGHT
BEGIN:STANDARD
TZOFFSETFROM:-0700
TZOFFSETTO:-0800
TZNAME:PST
DTSTART:20251102T090000
END:STANDARD
BEGIN:DAYLIGHT
TZOFFSETFROM:-0800
TZOFFSETTO:-0700
TZNAME:PDT
DTSTART:20260308T100000
END:DAYLIGHT
BEGIN:STANDARD
TZOFFSETFROM:-0700
TZOFFSETTO:-0800
TZNAME:PST
DTSTART:20261101T090000
END:STANDARD
END:VTIMEZONE
BEGIN:VEVENT
DTSTART;TZID=America/Los_Angeles:20250711T120000
DTEND;TZID=America/Los_Angeles:20250711T150000
DTSTAMP:20260422T013759
CREATED:20230518T032059Z
LAST-MODIFIED:20250616T040124Z
UID:8311-1752235200-1752246000@justonespokane.org
SUMMARY:Park Day
DESCRIPTION:Water Games & Summer Fiesta Train – Beat the Heat at Andrew Rypien Field!\nSummer fun starts with sunshine\, swimsuits\, and splashes of laughter—so hop aboard the Summer Fiesta Train! Every Friday\, Just One invites youth and their families to join us at Andrew Rypien Field for an afternoon of water games\, cool treats\, and unforgettable memories. Whether it’s water balloons\, sprinklers\, or surprise splash zones\, this is the perfect way to cool off and kick off the weekend. \nWhat to Do Next: \n\n\nMake sure you’ve register your youth under “Summer Fun With Just One” \n\n\nDrop-off is at 12 PM \n\n\nPick-up is at 3 PM \n\n\nTransportation Option:For youth who do not have transportation to Andrew Rypien Field\, we offer pickup and drop-off from Glass Park. Please arrive at Glass Park between 12:00–12:30 PM for the ride over. Youth will return to Glass Park between 2:45–3:15 PM.Due to limited seats\, we encourage families who can meet us directly at Andrew Rypien Field to please do so. \nGood to Know: \n\n\nAll activities\, field trips\, and prizes are free \n\n\nLunch and snacks are provided \n\n\nBring a swimsuit and sunscreen—you will get wet! \n\n\nBack-Up Plan:In the event of bad weather\, youth will still enjoy indoor fun or receive our beloved “Projects in a Bag.” \nWhat is “Projects in a Bag”?All registered youth are added to our delivery list for at-home activities. These bags include materials and instructions for creative\, engaging projects—just like we provided during COVID-19. \nBags will be dropped off on your porch—even if you’re not home. Because staff pack and plan routes the same morning\, delivery times will vary and occur in the evening. \nZip codes we deliver to:99207\, 99205\, 99202\, 99201\, and parts of 99217 \nOutside these areas? No worries—we’ll have extra bags available in our van for pickup at the next event day!
URL:https://justonespokane.org/event/bbq-day/
LOCATION:Glass Park\, 627 Heroy Ave\, Spokane\, WA\, 99207
CATEGORIES:Summer
ATTACH;FMTTYPE=image/jpeg:https://justonespokane.org/wp-content/uploads/2024/05/6309c569f962e2435da5cd84_water-slide-green-yellow-1.jpeg
END:VEVENT
BEGIN:VEVENT
DTSTART;TZID=America/Los_Angeles:20250716T120000
DTEND;TZID=America/Los_Angeles:20250716T150000
DTSTAMP:20260422T013759
CREATED:20240603T081149Z
LAST-MODIFIED:20250611T093611Z
UID:10676-1752667200-1752678000@justonespokane.org
SUMMARY:Hillyard Pool Day
DESCRIPTION:Pool Day Fun – Cool Off at Hillyard Community Pool!\nGet ready to splish\, splash\, and soak up the summer fun! Nothing beats the heat like a refreshing dip at the community pool—and we’re making a day of it. Youth are invited to join Just One for a sun-filled afternoon of swimming\, laughter\, and lasting memories. \nWhether they’re floating\, diving\, or racing their friends\, this outing is all about joy\, movement\, and making waves together! \nWhere to Meet:All youth should meet at Glass Park or directly at Hillyard Community Pool between 12:00–12:30 PM. Pool address: 2600 E Columbia Ave\, Spokane\, WA 99208 \n\nWhat to Do Next: \n\n\nMake sure your youth is registered for “Summer Fun With Just One” \n\n\nDrop-off is at 12 PM \n\n\nPick-up is at 3 PM \n\n\nPlease note: If your youth isn’t at Glass Park by 12:30 PM\, we’ll need to head out without them. If running late\, you’re more than welcome to meet us directly at the pool. \n\nGood to Know: \n\n\nAll activities\, field trips\, and prizes are completely free \n\n\nLunch and snacks are provided \n\n\nDon’t forget swimsuits\, towels\, and sunscreen! \n\n\n\nBack-Up Plan:In case of bad weather\, we’ll shift to indoor fun—or hand out our popular “Projects in a Bag.” \nWhat is “Projects in a Bag”?All youth registered for Just One’s Summer Programs are added to our delivery list. Each bag contains a fun at-home activity with instructions and materials—just like during COVID-19. \nBags will be left on your porch—even if you’re not home. Staff pack and plan routes the same morning and deliver bags in the evening. \nZip codes we deliver to:99207\, 99205\, 99202\, 99201\, 99204 and parts of 99217 \nOutside the zone? No problem! We’ll have extra bags ready for pickup from our van at the next event day. \n\nTransportation for special needs accommodations is limited—please reach out ahead of time so we can best support your youth:info@ifyoucouldsavejustone.org
URL:https://justonespokane.org/event/hillyard-pool-day-3/
LOCATION:Glass Park\, 627 Heroy Ave\, Spokane\, WA\, 99207
CATEGORIES:Summer
ATTACH;FMTTYPE=image/jpeg:https://justonespokane.org/wp-content/uploads/2024/06/Make-A-Splash-SPF-1322.jpg
END:VEVENT
BEGIN:VEVENT
DTSTART;TZID=America/Los_Angeles:20250728T113000
DTEND;TZID=America/Los_Angeles:20250728T150000
DTSTAMP:20260422T013759
CREATED:20250617T032134Z
LAST-MODIFIED:20250726T222107Z
UID:14126-1753702200-1753714800@justonespokane.org
SUMMARY:SplashDown Water Park
DESCRIPTION:We’ve made an exciting change for this Monday\, July 28th\nInstead of Get Air\, we’re heading to Splash Down! \nWe’re thrilled to be returning to Splash Down for the 4th year in a row\, and this year\, we have special transportation help from our awesome partners at Gonzaga Prep\, who are providing their bus to make this happen! \n\nUpdated Meet-Up Details\nIf you need transportation:\nMeet at Glass Park (627 E Heroy Ave)\nBe there by 11:30 AM\nWe leave at 12:00 PM sharp to head to Splash Down \nIf you have your own ride:\nMeet us at SplashDown Waterpark (11127 E Mission Ave Spokane Wa 99206)\nAnytime between 12:00 PM and 12:30 PM to meet some staff \nBus kids from Glass Park will arrive by 12:30 and get checked in for a fun-filled day in the water! \n\n Very Important: Waivers Required!\nYour child must have a Splash Down waiver completed to attend.\nHere’s the link: Click Here For Waiver \nYou have a few options to return it: \n\nPrint it\, sign it\nBring a printed copy to us when dropping kids off\nMeet us at Splash Down and sign a copy there\n\n\nAge & Supervision Policy\nOur program is designed for ages 10 and up. \nIf your child is 8 or 9 years old\, they may attend only with an older chaperone (like a trusted older sibling or adult you assign).\nUnfortunately\, we cannot supervise children under 8\, but we’re happy to welcome them with a chaperone you trust. \n\nLeaving Early or Independently?\nPlease text us ahead of time if your child has permission to leave the group or wander on their own.\nIf a child leaves without prior notice\, we’ll text you right away. While we’ll always do our best to encourage them to stay with us for safety\, we legally cannot physically restrain any youth from leaving. \n\nPick-Up Info\nWe’ll leave Splash Down at 2:45 PM\, load the bus\, and return to Glass Park between 3:15pm – 3:30pm. \nIf you’re picking your child up from SplashDown\, please be there by 3:00 PM sharp. \n\nEverything Is Covered – Just Show Up!\nThis trip to Splash Down is completely FREE—thanks to our amazing supporters and partners! \nLunch will be provided.\nIf your child has food allergies or is a picky eater\, we recommend packing them a lunch just in case. \nPlease apply sunscreen before drop-off if that’s your preference. \n\nWhat to Bring: \n\nA towel\nOptional change of clothes\nSpending money if they’d like to buy extra snacks or items from the concession stand\n\nWe’ll make sure they’re taken care of—but a little preparation helps make the day even smoother! \n\nBack-Up Plan:\nIf weather gets in the way\, we’ll pivot to indoor activities or hand out our popular “Projects in a Bag.” \n\nWhat is “Projects in a Bag”?\nYouth registered for Just One’s Summer Programs will automatically be added to our delivery list for “Projects in a Bag”—a take-home bag filled with fun projects and step-by-step instructions. Think of it as a creative boost delivered to your doorstep\, just like during COVID-19. \nBags will be dropped off on your porch—even if you’re not home. We can’t provide exact delivery times since our team assembles and delivers them in the same day based on route planning. \nDelivery zip codes include:99207\, 99205\, 99202\, 99201\, and parts of 99217 \nOutside those zip codes? No problem!We’ll have bags available in our van for pickup at the next event day.
URL:https://justonespokane.org/event/get-air-trampoline-park-5/
LOCATION:Glass Park\, 627 Heroy Ave\, Spokane\, WA\, 99207
CATEGORIES:Summer
ATTACH;FMTTYPE=image/jpeg:https://justonespokane.org/wp-content/uploads/2024/06/20160807-144201-largejpg.jpg
END:VEVENT
END:VCALENDAR