BEGIN:VCALENDAR
VERSION:2.0
PRODID:-//Just One Spokane | Youth Service | Spokane - ECPv6.15.20//NONSGML v1.0//EN
CALSCALE:GREGORIAN
METHOD:PUBLISH
X-WR-CALNAME:Just One Spokane | Youth Service | Spokane
X-ORIGINAL-URL:https://justonespokane.org
X-WR-CALDESC:Events for Just One Spokane | Youth Service | Spokane
REFRESH-INTERVAL;VALUE=DURATION:PT1H
X-Robots-Tag:noindex
X-PUBLISHED-TTL:PT1H
BEGIN:VTIMEZONE
TZID:America/Los_Angeles
BEGIN:DAYLIGHT
TZOFFSETFROM:-0800
TZOFFSETTO:-0700
TZNAME:PDT
DTSTART:20240310T100000
END:DAYLIGHT
BEGIN:STANDARD
TZOFFSETFROM:-0700
TZOFFSETTO:-0800
TZNAME:PST
DTSTART:20241103T090000
END:STANDARD
BEGIN:DAYLIGHT
TZOFFSETFROM:-0800
TZOFFSETTO:-0700
TZNAME:PDT
DTSTART:20250309T100000
END:DAYLIGHT
BEGIN:STANDARD
TZOFFSETFROM:-0700
TZOFFSETTO:-0800
TZNAME:PST
DTSTART:20251102T090000
END:STANDARD
BEGIN:DAYLIGHT
TZOFFSETFROM:-0800
TZOFFSETTO:-0700
TZNAME:PDT
DTSTART:20260308T100000
END:DAYLIGHT
BEGIN:STANDARD
TZOFFSETFROM:-0700
TZOFFSETTO:-0800
TZNAME:PST
DTSTART:20261101T090000
END:STANDARD
END:VTIMEZONE
BEGIN:VEVENT
DTSTART;TZID=America/Los_Angeles:20250616T060000
DTEND;TZID=America/Los_Angeles:20250704T233000
DTSTAMP:20260419T103655
CREATED:20250615T075824Z
LAST-MODIFIED:20250724T223853Z
UID:13962-1750053600-1751671800@justonespokane.org
SUMMARY:Registeration for 2025 Summer Fun With Just One
DESCRIPTION:We’re beyond excited to kick off another unforgettable summer with Just One Members! Whether you’re a returning family or joining us for the first time\, we’re thrilled to have you!\nAt Just One\, we believe every young person deserves a safe space to grow\, connect\, and just be. Our programs are designed to remove barriers and create meaningful opportunities—at no cost to families. Whether it’s in our after-school program\, summer sessions\, or holiday events\, we’re here to build memories\, connect friendships\, and spark joy.\nThis year is packed with fun-filled field trips\, new adventures\, and plenty of laughter—we can’t wait to share it all with you!\n\n\n\n\n\n\n\n\n\nHow It Works\n\n\n\n\n\n\n\n\n\nOur Summer Fun with Just One program runs from July 7th to August 22rd. Each day is packed with exciting field trips\, hands-on activities\, and opportunities to build friendships! \nAge Guidelines:Our program is designed for youth ages 10 and up.\nProgram Days & Times: \n\n\nMondays\, Wednesdays\, and Fridays – 12:00 PM to 3:00 PM \n\n\nAll completely free\, with lunch provided!\nWhere to Meet:We meet at Glass Park (627 E Heroy Ave)\, just one block away from our Just One facility (4421 N Nevada St). This central location is where we’ll meet before walking\, taking the city bus\, using arranged transportation\, or—when needed—asking you to meet us directly at one of our field trip locations. \n\n\n\n\n\n\n Heat Wave or Smoke Alerts! \nIf temperatures get dangerously high or there’s heavy smoke in the air\, we will either meet indoors or transition to our “Projects in a Bag” option. (This is one of the reasons we may ask you to meet us directly at the field trip location)\nWhat is “Project in a Bag”?It’s our fun and creative way to keep the kids engaged even when we can’t meet in person! Each bag includes a uncompleted project with easy-to-follow instructions and all the supplies needed for a hands-on activity your kiddo can do at home. These are designed to be fun\, educational\, and something the whole family can enjoy together. \nWe’ll deliver these bags to participants within the following zip codes: 99207\, 99205\, 99202\, 99201\, 99204 and parts of 99217.(Unfortunately\, we’re not able to deliver outside of these areas.) \nCheck your email and text messages the day before or morning of each  event dates about location changes or if we’re switching to “Project in a Bag”. \n\n\n\n\n\n\n\n\n\n\n\n\n\n\n\n\n\n\n\n\n\nWhat’s Planned This Summer?\nWe’ve packed this summer with fun\, local adventures your youth won’t want to miss! Each week brings something new\, and we rotate activities to keep things fresh and exciting. Some of the awesome experiences we have planned include: \n\n\nMovies – Catch a film with friends at Regal Theater \n\n\nHillyard Community Pool – Cool off and splash around \n\n\nBowling – Knock down some pins and cheer each other on \n\n\nGet Air Trampoline Park – Jump into fun and burn off energy \n\n\nPark Days – Water activities\, group games\, and hands-on projects every Friday \n\n\nThrift Shopping – Budgeting fun with our youth \n\n\nSurprise Projects & Special Guests \n\n\nWant to know what’s happening each day?Click here to view our Summer Calendar and get the full rundown of events. Bookmark or save the page so you and your kiddos can stay up-to-date and never miss the fun! \nRemember:\nAttendance is not mandatory—come on the days that work best for your schedule! Whether your youth joins us every day or just once in a while\, we’re thrilled to have them. \nYou’ll receive an email on Saturday evening\, July 5th\, confirming if your child is good to go for the program. Then on July 6th\, you’ll get another email with details about the movie and showtime. \nNote: You’ll always receive an email either the day before or the morning of any day your child is scheduled to join Just One. \n\n\n\n\nNote: If your child has allergies\, dietary restrictions\, or is a picky eater\, please send them with a packed lunch!SUMMER PROGRAM \n\n\nRegistration closed JULY 4th
URL:https://justonespokane.org/event/registeration-for-2025-summer-fun-with-just-one/
LOCATION:Glass Park\, 627 Heroy Ave\, Spokane\, WA\, 99207
CATEGORIES:Summer
ATTACH;FMTTYPE=image/gif:https://justonespokane.org/wp-content/uploads/2023/07/giphy-1.gif
END:VEVENT
END:VCALENDAR